Package: rGADEM
Version: 2.48.0
Command: /home/biocbuild/bbs-3.17-bioc/R/bin/R CMD check --install=check:rGADEM.install-out.txt --library=/home/biocbuild/bbs-3.17-bioc/R/site-library --timings rGADEM_2.48.0.tar.gz
StartedAt: 2023-10-16 00:23:14 -0400 (Mon, 16 Oct 2023)
EndedAt: 2023-10-16 00:28:47 -0400 (Mon, 16 Oct 2023)
EllapsedTime: 333.6 seconds
RetCode: 0
Status: OK
CheckDir: rGADEM.Rcheck
Warnings: 0