Package: rGADEM Version: 2.48.0 Command: /home/biocbuild/bbs-3.17-bioc/R/bin/R CMD build --keep-empty-dirs --no-resave-data rGADEM StartedAt: 2023-10-15 18:11:08 -0400 (Sun, 15 Oct 2023) EndedAt: 2023-10-15 18:12:32 -0400 (Sun, 15 Oct 2023) EllapsedTime: 84.3 seconds RetCode: 0 Status: OK PackageFile: rGADEM_2.48.0.tar.gz PackageFileSize: 223.2 <A href="http://en.wikipedia.org/wiki/KiB" target="_blank">KiB</A>