Package: qpcrNorm
Version: 1.58.0
Command: /Library/Frameworks/R.framework/Resources/bin/R CMD check --install=check:qpcrNorm.install-out.txt --library=/Library/Frameworks/R.framework/Resources/library --no-vignettes --timings qpcrNorm_1.58.0.tar.gz
StartedAt: 2023-10-16 05:40:30 -0400 (Mon, 16 Oct 2023)
EndedAt: 2023-10-16 05:41:52 -0400 (Mon, 16 Oct 2023)
EllapsedTime: 81.7 seconds
RetCode: 0
Status: OK
CheckDir: qpcrNorm.Rcheck
Warnings: 0