Package: qpcrNorm
Version: 1.58.0
Command: /Library/Frameworks/R.framework/Resources/bin/R CMD build --keep-empty-dirs --no-resave-data qpcrNorm
StartedAt: 2023-10-15 20:27:58 -0400 (Sun, 15 Oct 2023)
EndedAt: 2023-10-15 20:28:21 -0400 (Sun, 15 Oct 2023)
EllapsedTime: 22.7 seconds
RetCode: 0
Status: OK
PackageFile: qpcrNorm_1.58.0.tar.gz
PackageFileSize: 549.5 <A href="http://en.wikipedia.org/wiki/KiB" target="_blank">KiB</A>