Package: qpcrNorm Version: 1.58.0 Command: rm -rf qpcrNorm.buildbin-libdir && mkdir qpcrNorm.buildbin-libdir && /Users/biocbuild/BBS/utils/build-universal.sh qpcrNorm_1.58.0.tar.gz /Library/Frameworks/R.framework/Resources/bin/R qpcrNorm.buildbin-libdir StartedAt: 2023-10-16 09:58:43 -0400 (Mon, 16 Oct 2023) EndedAt: 2023-10-16 09:58:59 -0400 (Mon, 16 Oct 2023) EllapsedTime: 15.5 seconds RetCode: 0 Status: OK PackageFile: qpcrNorm_1.58.0.tgz PackageFileSize: 597.8 <A href="http://en.wikipedia.org/wiki/KiB" target="_blank">KiB</A>