git_url: https://git.bioconductor.org/packages/qpcrNorm
git_branch: RELEASE_3_17
git_last_commit: dbfb7ed
git_last_commit_date: 2023-04-25 09:48:34 -0400 (Tue, 25 Apr 2023)
Package: qpcrNorm
Version: 1.58.0
Maintainer: Jessica Mar
MaintainerEmail: jess at jimmy.harvard.edu