git_url: https://git.bioconductor.org/packages/qcmetrics
git_branch: RELEASE_3_17
git_last_commit: fd785d7
git_last_commit_date: 2023-04-25 10:29:17 -0400 (Tue, 25 Apr 2023)
Package: qcmetrics
Version: 1.38.0
Maintainer: Laurent Gatto
MaintainerEmail: laurent.gatto at uclouvain.be