git_url: https://git.bioconductor.org/packages/puma
git_branch: RELEASE_3_17
git_last_commit: 3c7e058
git_last_commit_date: 2023-04-25 09:45:27 -0400 (Tue, 25 Apr 2023)
Package: puma
Version: 3.42.0
Maintainer: Xuejun Liu
MaintainerEmail: xuejun.liu at nuaa.edu.cn