git_url: https://git.bioconductor.org/packages/proBAMr
git_branch: RELEASE_3_17
git_last_commit: 60bf197
git_last_commit_date: 2023-04-25 10:35:18 -0400 (Tue, 25 Apr 2023)
Package: proBAMr
Version: 1.34.0
Maintainer: Xiaojing Wang
MaintainerEmail: xiaojing.wang at vanderbilt.edu