git_url: https://git.bioconductor.org/packages/proActiv
git_branch: RELEASE_3_17
git_last_commit: da3d324
git_last_commit_date: 2023-04-25 11:22:38 -0400 (Tue, 25 Apr 2023)
Package: proActiv
Version: 1.10.0
Maintainer: Joseph Lee
MaintainerEmail: joseph.lee at u.nus.edu