git_url: https://git.bioconductor.org/packages/pram
git_branch: RELEASE_3_17
git_last_commit: b641349
git_last_commit_date: 2023-04-25 11:08:29 -0400 (Tue, 25 Apr 2023)
Package: pram
Version: 1.16.0
Maintainer: Peng Liu
MaintainerEmail: pliu55.wisc at gmail.com