Package: pqsfinder
Version: 2.16.0
Command: F:\biocbuild\bbs-3.17-bioc\R\bin\R.exe CMD INSTALL pqsfinder
StartedAt: 2023-10-15 15:55:41 -0400 (Sun, 15 Oct 2023)
EndedAt: 2023-10-15 15:56:41 -0400 (Sun, 15 Oct 2023)
EllapsedTime: 60.1 seconds
RetCode: 0
Status: OK