Package: pqsfinder
Version: 2.16.0
Command: F:\biocbuild\bbs-3.17-bioc\R\bin\R.exe CMD check --no-multiarch --install=check:pqsfinder.install-out.txt --library=F:\biocbuild\bbs-3.17-bioc\R\library --no-vignettes --timings pqsfinder_2.16.0.tar.gz
StartedAt: 2023-10-16 05:25:29 -0400 (Mon, 16 Oct 2023)
EndedAt: 2023-10-16 05:28:24 -0400 (Mon, 16 Oct 2023)
EllapsedTime: 174.3 seconds
RetCode: 0
Status: OK
CheckDir: pqsfinder.Rcheck
Warnings: 0