Package: pqsfinder Version: 2.16.0 Command: chmod a+r pqsfinder -R && F:\biocbuild\bbs-3.17-bioc\R\bin\R.exe CMD build --keep-empty-dirs --no-resave-data pqsfinder StartedAt: 2023-10-15 21:26:25 -0400 (Sun, 15 Oct 2023) EndedAt: 2023-10-15 21:28:37 -0400 (Sun, 15 Oct 2023) EllapsedTime: 131.5 seconds RetCode: 0 Status: OK PackageFile: pqsfinder_2.16.0.tar.gz PackageFileSize: 327.2 <A href="http://en.wikipedia.org/wiki/KiB" target="_blank">KiB</A>