Package: pqsfinder Version: 2.16.0 Command: /home/biocbuild/bbs-3.17-bioc/R/bin/R CMD build --keep-empty-dirs --no-resave-data pqsfinder StartedAt: 2023-10-15 17:59:59 -0400 (Sun, 15 Oct 2023) EndedAt: 2023-10-15 18:01:58 -0400 (Sun, 15 Oct 2023) EllapsedTime: 119.3 seconds RetCode: 0 Status: OK PackageFile: pqsfinder_2.16.0.tar.gz PackageFileSize: 353.3 KiB