Package: pqsfinder
Version: 2.16.0
Command: /Library/Frameworks/R.framework/Resources/bin/R CMD INSTALL pqsfinder
StartedAt: 2023-10-15 15:11:50 -0400 (Sun, 15 Oct 2023)
EndedAt: 2023-10-15 15:14:05 -0400 (Sun, 15 Oct 2023)
EllapsedTime: 135.1 seconds
RetCode: 0
Status: OK