git_url: https://git.bioconductor.org/packages/plyranges
git_branch: RELEASE_3_17
git_last_commit: dd4c068
git_last_commit_date: 2023-04-25 11:00:35 -0400 (Tue, 25 Apr 2023)
Package: plyranges
Version: 1.20.0
Maintainer: Stuart Lee
MaintainerEmail: stuart.andrew.lee at gmail.com