Package: plotgardener Version: 1.6.4 Command: /Library/Frameworks/R.framework/Resources/bin/R CMD check --install=check:plotgardener.install-out.txt --library=/Library/Frameworks/R.framework/Resources/library --no-vignettes --timings plotgardener_1.6.4.tar.gz StartedAt: 2023-10-16 05:20:41 -0400 (Mon, 16 Oct 2023) EndedAt: 2023-10-16 05:35:35 -0400 (Mon, 16 Oct 2023) EllapsedTime: 893.6 seconds RetCode: 0 Status: OK CheckDir: plotgardener.Rcheck Warnings: 0