git_url: https://git.bioconductor.org/packages/pipeFrame
git_branch: RELEASE_3_17
git_last_commit: 89b7f04
git_last_commit_date: 2023-04-25 11:09:55 -0400 (Tue, 25 Apr 2023)
Package: pipeFrame
Version: 1.16.0
Maintainer: Zheng Wei
MaintainerEmail: wzweizheng at qq.com