git_url: https://git.bioconductor.org/packages/phyloseq
git_branch: RELEASE_3_17
git_last_commit: 03b74f7
git_last_commit_date: 2023-04-25 10:22:14 -0400 (Tue, 25 Apr 2023)
Package: phyloseq
Version: 1.44.0
Maintainer: Paul J. McMurdie
MaintainerEmail: joey711 at gmail.com