Package: pepXMLTab
Version: 1.34.0
Command: /Library/Frameworks/R.framework/Resources/bin/R CMD INSTALL pepXMLTab
StartedAt: 2023-10-15 15:08:08 -0400 (Sun, 15 Oct 2023)
EndedAt: 2023-10-15 15:08:34 -0400 (Sun, 15 Oct 2023)
EllapsedTime: 25.6 seconds
RetCode: 0
Status: OK