Package: pepXMLTab
Version: 1.34.0
Command: /Library/Frameworks/R.framework/Resources/bin/R CMD build --keep-empty-dirs --no-resave-data pepXMLTab
StartedAt: 2023-10-15 20:13:42 -0400 (Sun, 15 Oct 2023)
EndedAt: 2023-10-15 20:14:08 -0400 (Sun, 15 Oct 2023)
EllapsedTime: 25.8 seconds
RetCode: 0
Status: OK
PackageFile: pepXMLTab_1.34.0.tar.gz
PackageFileSize: 187.6 <A href="http://en.wikipedia.org/wiki/KiB" target="_blank">KiB</A>