##############################################################################
##############################################################################
###
### Running command:
###
###   /Library/Frameworks/R.framework/Resources/bin/R CMD build --keep-empty-dirs --no-resave-data pepXMLTab
###
##############################################################################
##############################################################################


* checking for file ‘pepXMLTab/DESCRIPTION’ ... OK
* preparing ‘pepXMLTab’:
* checking DESCRIPTION meta-information ... OK
* installing the package to build vignettes
* creating vignettes ... OK
* checking for LF line-endings in source and make files and shell scripts
* checking for empty or unneeded directories
* building ‘pepXMLTab_1.34.0.tar.gz’