Package: pepXMLTab Version: 1.34.0 Command: rm -rf pepXMLTab.buildbin-libdir && mkdir pepXMLTab.buildbin-libdir && /Users/biocbuild/BBS/utils/build-universal.sh pepXMLTab_1.34.0.tar.gz /Library/Frameworks/R.framework/Resources/bin/R pepXMLTab.buildbin-libdir StartedAt: 2023-10-16 09:54:51 -0400 (Mon, 16 Oct 2023) EndedAt: 2023-10-16 09:54:59 -0400 (Mon, 16 Oct 2023) EllapsedTime: 8.5 seconds RetCode: 0 Status: OK PackageFile: pepXMLTab_1.34.0.tgz PackageFileSize: 206 <A href="http://en.wikipedia.org/wiki/KiB" target="_blank">KiB</A>