git_url: https://git.bioconductor.org/packages/pcaExplorer
git_branch: RELEASE_3_17
git_last_commit: 2fced96
git_last_commit_date: 2023-04-28 17:04:12 -0400 (Fri, 28 Apr 2023)
Package: pcaExplorer
Version: 2.26.1
Maintainer: Federico Marini
MaintainerEmail: marinif at uni-mainz.de