Package: parody Version: 1.58.0 Command: chmod a+r parody -R && F:\biocbuild\bbs-3.17-bioc\R\bin\R.exe CMD build --keep-empty-dirs --no-resave-data parody StartedAt: 2023-10-15 21:14:15 -0400 (Sun, 15 Oct 2023) EndedAt: 2023-10-15 21:14:40 -0400 (Sun, 15 Oct 2023) EllapsedTime: 25.2 seconds RetCode: 0 Status: OK PackageFile: parody_1.58.0.tar.gz PackageFileSize: 304.7 <A href="http://en.wikipedia.org/wiki/KiB" target="_blank">KiB</A>