Package: parody
Version: 1.58.0
Command: rm -rf parody.buildbin-libdir && mkdir parody.buildbin-libdir && F:\biocbuild\bbs-3.17-bioc\R\bin\R.exe CMD INSTALL --build --library=parody.buildbin-libdir parody_1.58.0.tar.gz
StartedAt: 2023-10-16 09:14:28 -0400 (Mon, 16 Oct 2023)
EndedAt: 2023-10-16 09:14:41 -0400 (Mon, 16 Oct 2023)
EllapsedTime: 13.6 seconds
RetCode: 0
Status: OK
PackageFile: parody_1.58.0.zip
PackageFileSize: 351.1 <A href="http://en.wikipedia.org/wiki/KiB" target="_blank">KiB</A>