git_url: https://git.bioconductor.org/packages/panp
git_branch: RELEASE_3_17
git_last_commit: e4a528f
git_last_commit_date: 2023-04-25 09:42:51 -0400 (Tue, 25 Apr 2023)
Package: panp
Version: 1.70.0
Maintainer: Peter Warren
MaintainerEmail: peter.warren at verizon.net