Package: pageRank Version: 1.10.0 Command: F:\biocbuild\bbs-3.17-bioc\R\bin\R.exe CMD INSTALL pageRank StartedAt: 2023-10-15 16:18:27 -0400 (Sun, 15 Oct 2023) EndedAt: 2023-10-15 16:19:18 -0400 (Sun, 15 Oct 2023) EllapsedTime: 50.4 seconds RetCode: 0 Status: OK