git_url: https://git.bioconductor.org/packages/pRolocGUI
git_branch: RELEASE_3_17
git_last_commit: c67a6b3
git_last_commit_date: 2023-04-25 10:33:00 -0400 (Tue, 25 Apr 2023)
Package: pRolocGUI
Version: 2.10.0
Maintainer: Lisa Breckels
MaintainerEmail: lms79 at cam.ac.uk