git_url: https://git.bioconductor.org/packages/orthogene
git_branch: RELEASE_3_17
git_last_commit: 4c46a32
git_last_commit_date: 2023-07-13 16:45:28 -0400 (Thu, 13 Jul 2023)
Package: orthogene
Version: 1.6.1
Maintainer: Brian Schilder
MaintainerEmail: brian_schilder at alumni.brown.edu