Package: optimalFlow
Version: 1.12.0
Command: /Library/Frameworks/R.framework/Resources/bin/R CMD INSTALL optimalFlow
StartedAt: 2023-10-15 15:45:23 -0400 (Sun, 15 Oct 2023)
EndedAt: 2023-10-15 15:46:28 -0400 (Sun, 15 Oct 2023)
EllapsedTime: 64.7 seconds
RetCode: 0
Status: OK