Package: optimalFlow
Version: 1.12.0
Command: /Library/Frameworks/R.framework/Resources/bin/R CMD check --install=check:optimalFlow.install-out.txt --library=/Library/Frameworks/R.framework/Resources/library --no-vignettes --timings optimalFlow_1.12.0.tar.gz
StartedAt: 2023-10-16 04:54:16 -0400 (Mon, 16 Oct 2023)
EndedAt: 2023-10-16 05:03:11 -0400 (Mon, 16 Oct 2023)
EllapsedTime: 534.9 seconds
RetCode: 0
Status: OK
CheckDir: optimalFlow.Rcheck
Warnings: 0