Package: optimalFlow Version: 1.12.0 Command: /Library/Frameworks/R.framework/Resources/bin/R CMD build --keep-empty-dirs --no-resave-data optimalFlow StartedAt: 2023-10-15 20:02:03 -0400 (Sun, 15 Oct 2023) EndedAt: 2023-10-15 20:16:55 -0400 (Sun, 15 Oct 2023) EllapsedTime: 891.8 seconds RetCode: 0 Status: OK PackageFile: optimalFlow_1.12.0.tar.gz PackageFileSize: 1.242 <A href="http://en.wikipedia.org/wiki/MiB" target="_blank">MiB</A>