git_url: https://git.bioconductor.org/packages/ontoProc
git_branch: RELEASE_3_17
git_last_commit: ad47230
git_last_commit_date: 2023-04-25 10:57:39 -0400 (Tue, 25 Apr 2023)
Package: ontoProc
Version: 1.22.0
Maintainer: Vincent Carey
MaintainerEmail: stvjc at channing.harvard.edu