git_url: https://git.bioconductor.org/packages/oncomix
git_branch: RELEASE_3_17
git_last_commit: 85af313
git_last_commit_date: 2023-04-25 10:57:49 -0400 (Tue, 25 Apr 2023)
Package: oncomix
Version: 1.22.0
Maintainer: Daniel Pique
MaintainerEmail: daniel.pique at med.einstein.yu.edu