Package: octad
Version: 1.2.0
Command: F:\biocbuild\bbs-3.17-bioc\R\bin\R.exe CMD INSTALL octad
StartedAt: 2023-10-15 17:04:12 -0400 (Sun, 15 Oct 2023)
EndedAt: 2023-10-15 17:05:13 -0400 (Sun, 15 Oct 2023)
EllapsedTime: 60.9 seconds
RetCode: 0
Status: OK