Package: octad
Version: 1.2.0
Command: chmod a+r octad -R && F:\biocbuild\bbs-3.17-bioc\R\bin\R.exe --arch x64 CMD build --keep-empty-dirs --no-resave-data octad
StartedAt: 2023-10-15 20:55:54 -0400 (Sun, 15 Oct 2023)
EndedAt: 2023-10-15 21:06:04 -0400 (Sun, 15 Oct 2023)
EllapsedTime: 609.7 seconds
RetCode: 0
Status: OK
PackageFile: octad_1.2.0.tar.gz
PackageFileSize: 1.179 <A href="http://en.wikipedia.org/wiki/MiB" target="_blank">MiB</A>