Package: octad Version: 1.2.0 Command: rm -rf octad.buildbin-libdir && mkdir octad.buildbin-libdir && F:\biocbuild\bbs-3.17-bioc\R\bin\R.exe CMD INSTALL --build --library=octad.buildbin-libdir octad_1.2.0.tar.gz StartedAt: 2023-10-16 09:11:55 -0400 (Mon, 16 Oct 2023) EndedAt: 2023-10-16 09:13:02 -0400 (Mon, 16 Oct 2023) EllapsedTime: 67.8 seconds RetCode: 0 Status: OK PackageFile: octad_1.2.0.zip PackageFileSize: 1.254 <A href="http://en.wikipedia.org/wiki/MiB" target="_blank">MiB</A>