Package: octad
Version: 1.2.0
Command: /Library/Frameworks/R.framework/Resources/bin/R CMD INSTALL octad
StartedAt: 2023-10-15 16:31:47 -0400 (Sun, 15 Oct 2023)
EndedAt: 2023-10-15 16:34:37 -0400 (Sun, 15 Oct 2023)
EllapsedTime: 169.9 seconds
RetCode: 0
Status: OK