Package: octad Version: 1.2.0 Command: /Library/Frameworks/R.framework/Resources/bin/R CMD check --install=check:octad.install-out.txt --library=/Library/Frameworks/R.framework/Resources/library --no-vignettes --timings octad_1.2.0.tar.gz StartedAt: 2023-10-16 04:45:20 -0400 (Mon, 16 Oct 2023) EndedAt: 2023-10-16 05:09:00 -0400 (Mon, 16 Oct 2023) EllapsedTime: 1420.2 seconds RetCode: 0 Status: OK CheckDir: octad.Rcheck Warnings: 0