Package: octad
Version: 1.2.0
Command: /Library/Frameworks/R.framework/Resources/bin/R CMD build --keep-empty-dirs --no-resave-data octad
StartedAt: 2023-10-15 19:57:54 -0400 (Sun, 15 Oct 2023)
EndedAt: 2023-10-15 20:07:51 -0400 (Sun, 15 Oct 2023)
EllapsedTime: 596.2 seconds
RetCode: 0
Status: OK
PackageFile: octad_1.2.0.tar.gz
PackageFileSize: 1.328 <A href="http://en.wikipedia.org/wiki/MiB" target="_blank">MiB</A>