Package: octad Version: 1.2.0 Command: rm -rf octad.buildbin-libdir && mkdir octad.buildbin-libdir && /Users/biocbuild/BBS/utils/build-universal.sh octad_1.2.0.tar.gz /Library/Frameworks/R.framework/Resources/bin/R octad.buildbin-libdir StartedAt: 2023-10-16 09:51:15 -0400 (Mon, 16 Oct 2023) EndedAt: 2023-10-16 09:54:22 -0400 (Mon, 16 Oct 2023) EllapsedTime: 186.6 seconds RetCode: 0 Status: OK PackageFile: octad_1.2.0.tgz PackageFileSize: 1.399 <A href="http://en.wikipedia.org/wiki/MiB" target="_blank">MiB</A>