git_url: https://git.bioconductor.org/packages/occugene
git_branch: RELEASE_3_17
git_last_commit: 9c53bcc
git_last_commit_date: 2023-04-25 09:44:41 -0400 (Tue, 25 Apr 2023)
Package: occugene
Version: 1.60.0
Maintainer: Oliver Will
MaintainerEmail: oliverrreader at gmail.com