Package: nondetects
Version: 2.30.0
Command: /home/biocbuild/bbs-3.17-bioc/R/bin/R CMD INSTALL nondetects
StartedAt: 2023-10-15 15:32:43 -0400 (Sun, 15 Oct 2023)
EndedAt: 2023-10-15 15:32:52 -0400 (Sun, 15 Oct 2023)
EllapsedTime: 8.7 seconds
RetCode: 0
Status: OK