Package: nondetects
Version: 2.30.0
Command: /home/biocbuild/bbs-3.17-bioc/R/bin/R CMD build --keep-empty-dirs --no-resave-data nondetects
StartedAt: 2023-10-15 17:41:01 -0400 (Sun, 15 Oct 2023)
EndedAt: 2023-10-15 17:44:45 -0400 (Sun, 15 Oct 2023)
EllapsedTime: 223.7 seconds
RetCode: 0
Status: OK
PackageFile: nondetects_2.30.0.tar.gz
PackageFileSize: 117.4 <A href="http://en.wikipedia.org/wiki/KiB" target="_blank">KiB</A>