Package: nondetects
Version: 2.30.0
Command: /Library/Frameworks/R.framework/Resources/bin/R CMD INSTALL nondetects
StartedAt: 2023-10-15 15:52:48 -0400 (Sun, 15 Oct 2023)
EndedAt: 2023-10-15 15:53:20 -0400 (Sun, 15 Oct 2023)
EllapsedTime: 31.3 seconds
RetCode: 0
Status: OK