Package: nondetects
Version: 2.30.0
Command: /Library/Frameworks/R.framework/Resources/bin/R CMD check --install=check:nondetects.install-out.txt --library=/Library/Frameworks/R.framework/Resources/library --no-vignettes --timings nondetects_2.30.0.tar.gz
StartedAt: 2023-10-16 04:41:43 -0400 (Mon, 16 Oct 2023)
EndedAt: 2023-10-16 05:02:09 -0400 (Mon, 16 Oct 2023)
EllapsedTime: 1226.1 seconds
RetCode: 0
Status: OK
CheckDir: nondetects.Rcheck
Warnings: 0