Package: nondetects
Version: 2.30.0
Command: /Library/Frameworks/R.framework/Resources/bin/R CMD build --keep-empty-dirs --no-resave-data nondetects
StartedAt: 2023-10-15 19:55:44 -0400 (Sun, 15 Oct 2023)
EndedAt: 2023-10-15 20:03:23 -0400 (Sun, 15 Oct 2023)
EllapsedTime: 458.9 seconds
RetCode: 0
Status: OK
PackageFile: nondetects_2.30.0.tar.gz
PackageFileSize: 117.8 <A href="http://en.wikipedia.org/wiki/KiB" target="_blank">KiB</A>