Package: nempi Version: 1.8.0 Command: /home/biocbuild/bbs-3.17-bioc/R/bin/R CMD build --keep-empty-dirs --no-resave-data nempi StartedAt: 2023-10-15 17:38:31 -0400 (Sun, 15 Oct 2023) EndedAt: 2023-10-15 17:39:15 -0400 (Sun, 15 Oct 2023) EllapsedTime: 43.2 seconds RetCode: 0 Status: OK PackageFile: nempi_1.8.0.tar.gz PackageFileSize: 505 KiB